BEGIN:VCALENDAR
PRODID:-
VERSION:2.0
BEGIN:VEVENT
DTSTART;VALUE=DATE:20240902
DTSTAMP:20260423T053929Z
SEQUENCE:0
SUMMARY:Tihoi 2024/2 Parcel Run 
UID:6434@stpaulscollegiateschool
END:VEVENT
END:VCALENDAR
