BEGIN:VCALENDAR
PRODID:-
VERSION:2.0
BEGIN:VEVENT
DTSTART;TZID=Pacific/Auckland:20240904T000000Z
DTEND;TZID=Pacific/Auckland:20240906T000000Z
TRANSP:OPAQUE
DTSTAMP:20260422T225249Z
SEQUENCE:0
SUMMARY:Tihoi 2024/2 - Outdoor Rotation 
DESCRIPTION:Bush 2, Rock 2, Canoe,<br/>
UID:6254@stpaulscollegiateschool
END:VEVENT
END:VCALENDAR
