BEGIN:VCALENDAR
PRODID:-
VERSION:2.0
BEGIN:VEVENT
DTSTART;VALUE=DATE:20240906
DTSTAMP:20260422T213632Z
SEQUENCE:0
SUMMARY:Tihoi 2024/2 - Exeat break 
UID:6377@stpaulscollegiateschool
END:VEVENT
END:VCALENDAR
