BEGIN:VCALENDAR
PRODID:-
VERSION:2.0
BEGIN:VEVENT
DTSTART;VALUE=DATE:20240909
DTSTAMP:20260422T143011Z
SEQUENCE:0
SUMMARY:Tihoi 2024/2 - Return from Exeat break 
UID:6378@stpaulscollegiateschool
END:VEVENT
END:VCALENDAR
