BEGIN:VCALENDAR
PRODID:-
VERSION:2.0
BEGIN:VEVENT
DTSTART;TZID=Pacific/Auckland:20240911T000000Z
DTEND;TZID=Pacific/Auckland:20240913T000000Z
TRANSP:OPAQUE
DTSTAMP:20260422T063507Z
SEQUENCE:0
SUMMARY:Tihoi 2024/2 - Outdoor Rotation 
DESCRIPTION:Bush 2, Rock 2, Canoe,<br/>
UID:6255@stpaulscollegiateschool
END:VEVENT
END:VCALENDAR
