BEGIN:VCALENDAR
PRODID:-
VERSION:2.0
BEGIN:VEVENT
DTSTART;VALUE=DATE:20240913
DTSTAMP:20260422T063002Z
SEQUENCE:0
SUMMARY:Tihoi 2024/2 Parcel Run 
UID:6435@stpaulscollegiateschool
END:VEVENT
END:VCALENDAR
