BEGIN:VCALENDAR
PRODID:-
VERSION:2.0
BEGIN:VEVENT
DTSTART;VALUE=DATE:20240921
DTSTAMP:20260425T025054Z
SEQUENCE:0
SUMMARY:Tihoi 2024/2 - Community Day & term break
UID:5738@stpaulscollegiateschool
END:VEVENT
END:VCALENDAR
