BEGIN:VCALENDAR
PRODID:-
VERSION:2.0
BEGIN:VEVENT
DTSTART;TZID=Pacific/Auckland:20241016T000000Z
DTEND;TZID=Pacific/Auckland:20241018T000000Z
TRANSP:OPAQUE
DTSTAMP:20260425T102044Z
SEQUENCE:0
SUMMARY:Tihoi 2024/2 - Outdoor Rotation 
DESCRIPTION:Cave, Kayak 2, Sea Kayak<br/>
UID:6258@stpaulscollegiateschool
END:VEVENT
END:VCALENDAR
