BEGIN:VCALENDAR
PRODID:-
VERSION:2.0
BEGIN:VEVENT
DTSTART;VALUE=DATE:20241022
DTSTAMP:20260425T120200Z
SEQUENCE:0
SUMMARY:Tihoi 2024/2 Return from EXEAT
UID:6676@stpaulscollegiateschool
END:VEVENT
END:VCALENDAR
