BEGIN:VCALENDAR
PRODID:-
VERSION:2.0
BEGIN:VEVENT
DTSTART;TZID=Pacific/Auckland:20241025T000000Z
DTEND;TZID=Pacific/Auckland:20241027T000000Z
TRANSP:OPAQUE
DTSTAMP:20260425T121307Z
SEQUENCE:0
SUMMARY:Tihoi 2024/2 - Parent Tramp & Alpine Rotation
DESCRIPTION:Parents only attend one parent tramp. Half the intake on Alpine, the other half doing parent tramp.<br/>
UID:6259@stpaulscollegiateschool
END:VEVENT
END:VCALENDAR
